BEGIN:VCALENDAR
VERSION:2.0
PRODID:-//webinar.firespring.org//NONSGML kigkonsult.se iCalcreator 2.30.10
 //
CALSCALE:GREGORIAN
METHOD:PUBLISH
UID:5351d850-2d24-4de7-ac89-779d51636d38
X-WR-CALDESC:You have the ability to update your website 24/7 and we’re her
 e to teach you how. Quickly learn how to customize and manage your nonprof
 it website by using the Springboard. From updating content\, images\, form
 s and collections to changing page and section names or news articles\, th
 is session will teach you how to operate your site.
X-WR-RELCALID:61e9f816771a8b728df1fb9ef5697efc
X-WR-TIMEZONE:America/Chicago
BEGIN:VTIMEZONE
TZID:America/Chicago
BEGIN:STANDARD
TZNAME:CST
DTSTART:20211107T020000
TZOFFSETFROM:-0500
TZOFFSETTO:-0600
RDATE:20221106T020000
END:STANDARD
BEGIN:DAYLIGHT
TZNAME:CDT
DTSTART:20210314T020000
TZOFFSETFROM:-0600
TZOFFSETTO:-0500
RDATE:20220313T020000
RDATE:20230312T020000
END:DAYLIGHT
END:VTIMEZONE
BEGIN:VEVENT
UID:d2958787-9e51-4229-aab3-078f0f641230
DTSTAMP:20260425T121347Z
DESCRIPTION:You have the ability to update your website 24/7 and we’re here
  to teach you how. Quickly learn how to customize and manage your nonprofi
 t website by using the Springboard. From updating content\, images\, forms
  and collections to changing page and section names or news articles\, thi
 s session will teach you how to operate your site.
DTSTART;TZID=America/Chicago:20211229T140000
DTEND;TZID=America/Chicago:20211229T150000
LOCATION:
SUMMARY:Springboard 101
END:VEVENT
END:VCALENDAR
