BEGIN:VCALENDAR
VERSION:2.0
PRODID:-//webinar.firespring.org//NONSGML kigkonsult.se iCalcreator 2.30.10
 //
CALSCALE:GREGORIAN
METHOD:PUBLISH
UID:cd5c6fed-f368-40bd-8db0-57397e3fffb8
X-WR-CALDESC:
X-WR-RELCALID:e6d6990fcbd66d6a193a7efcfbc267f3
X-WR-TIMEZONE:America/Chicago
BEGIN:VTIMEZONE
TZID:America/Chicago
BEGIN:STANDARD
TZNAME:CST
DTSTART:20201101T020000
TZOFFSETFROM:-0500
TZOFFSETTO:-0600
RDATE:20211107T020000
RDATE:20221106T020000
END:STANDARD
BEGIN:DAYLIGHT
TZNAME:CDT
DTSTART:20210314T020000
TZOFFSETFROM:-0600
TZOFFSETTO:-0500
RDATE:20220313T020000
RDATE:20230312T020000
END:DAYLIGHT
END:VTIMEZONE
BEGIN:VEVENT
UID:d9c297ee-8db5-4c2c-b385-69e369385e07
DTSTAMP:20260425T153032Z
DESCRIPTION:
DTSTART;TZID=America/Chicago:20211026T170000
DTEND;TZID=America/Chicago:20211026T200000
LOCATION:
SUMMARY:Volunteer Training
END:VEVENT
END:VCALENDAR
