BEGIN:VCALENDAR
VERSION:2.0
PRODID:-//webinar.firespring.org//NONSGML kigkonsult.se iCalcreator 2.30.10
 //
CALSCALE:GREGORIAN
METHOD:PUBLISH
UID:0a9ebf01-56eb-4820-be57-7dc266884b5c
X-WR-CALDESC:
X-WR-RELCALID:27f0e3cb784b051f40e30a338e1079e0
X-WR-TIMEZONE:America/Chicago
BEGIN:VTIMEZONE
TZID:America/Chicago
BEGIN:STANDARD
TZNAME:CST
DTSTART:20201101T020000
TZOFFSETFROM:-0500
TZOFFSETTO:-0600
RDATE:20211107T020000
RDATE:20221106T020000
END:STANDARD
BEGIN:DAYLIGHT
TZNAME:CDT
DTSTART:20210314T020000
TZOFFSETFROM:-0600
TZOFFSETTO:-0500
RDATE:20220313T020000
RDATE:20230312T020000
END:DAYLIGHT
END:VTIMEZONE
BEGIN:VEVENT
UID:dba19117-b88b-4e0f-8005-bd07a5af7019
DTSTAMP:20260425T165156Z
DESCRIPTION:
DTSTART;TZID=America/Chicago:20210928T170000
DTEND;TZID=America/Chicago:20210928T200000
LOCATION:
SUMMARY:Volunteer Training
END:VEVENT
END:VCALENDAR
