BEGIN:VCALENDAR
VERSION:2.0
PRODID:-//webinar.firespring.org//NONSGML kigkonsult.se iCalcreator 2.30.10
 //
CALSCALE:GREGORIAN
METHOD:PUBLISH
UID:7f001b27-4575-49bb-9023-d73a3c10c191
X-WR-CALDESC:One day of giving to benefit our great organization.
X-WR-RELCALID:2b42d621c4f41865e46289403f314ade
X-WR-TIMEZONE:America/Chicago
BEGIN:VTIMEZONE
TZID:America/Chicago
BEGIN:STANDARD
TZNAME:CST
DTSTART:20201101T020000
TZOFFSETFROM:-0500
TZOFFSETTO:-0600
RDATE:20211107T020000
RDATE:20221106T020000
END:STANDARD
BEGIN:DAYLIGHT
TZNAME:CDT
DTSTART:20210314T020000
TZOFFSETFROM:-0600
TZOFFSETTO:-0500
RDATE:20220313T020000
END:DAYLIGHT
END:VTIMEZONE
BEGIN:VEVENT
UID:eef590ac-b095-48cd-a236-a4ee5f27d31a
DTSTAMP:20260425T164531Z
DESCRIPTION:One day of giving to benefit our great organization.
DTSTART;TZID=America/Chicago:20210906T000000
DTEND;TZID=America/Chicago:20210906T235900
LOCATION:1201 Infinity Court Lincoln Ne 68512
SUMMARY:Day of Giving
END:VEVENT
END:VCALENDAR
