BEGIN:VCALENDAR
VERSION:2.0
PRODID:-//webinar.firespring.org//NONSGML kigkonsult.se iCalcreator 2.30.10
 //
CALSCALE:GREGORIAN
METHOD:PUBLISH
UID:2497dc79-d054-474a-8679-af98838f8ee8
X-WR-CALDESC:
X-WR-RELCALID:3837f3385e7821385fa29c9655b307d8
X-WR-TIMEZONE:America/Chicago
BEGIN:VTIMEZONE
TZID:America/Chicago
BEGIN:STANDARD
TZNAME:CST
DTSTART:20201101T020000
TZOFFSETFROM:-0500
TZOFFSETTO:-0600
RDATE:20211107T020000
RDATE:20221106T020000
END:STANDARD
BEGIN:DAYLIGHT
TZNAME:CDT
DTSTART:20210314T020000
TZOFFSETFROM:-0600
TZOFFSETTO:-0500
RDATE:20220313T020000
END:DAYLIGHT
END:VTIMEZONE
BEGIN:VEVENT
UID:9cd58638-ee34-4fca-939a-3ffb56190e28
DTSTAMP:20260425T181850Z
DESCRIPTION:
DTSTART;TZID=America/Chicago:20210824T170000
DTEND;TZID=America/Chicago:20210824T200000
LOCATION:
SUMMARY:Volunteer Training
END:VEVENT
END:VCALENDAR
