BEGIN:VCALENDAR
VERSION:2.0
PRODID:-//webinar.firespring.org//NONSGML kigkonsult.se iCalcreator 2.30.10
 //
CALSCALE:GREGORIAN
METHOD:PUBLISH
UID:aabcb99c-a4af-43f0-99ea-5d35d57efe5c
X-WR-CALDESC:
X-WR-RELCALID:26494e36cc23ea5007941abbce152961
X-WR-TIMEZONE:America/Chicago
BEGIN:VTIMEZONE
TZID:America/Chicago
BEGIN:STANDARD
TZNAME:CST
DTSTART:20201101T020000
TZOFFSETFROM:-0500
TZOFFSETTO:-0600
RDATE:20211107T020000
RDATE:20221106T020000
END:STANDARD
BEGIN:DAYLIGHT
TZNAME:CDT
DTSTART:20210314T020000
TZOFFSETFROM:-0600
TZOFFSETTO:-0500
RDATE:20220313T020000
END:DAYLIGHT
END:VTIMEZONE
BEGIN:VEVENT
UID:9232987c-aabd-4567-9ad3-9dea40717e56
DTSTAMP:20260425T194951Z
DESCRIPTION:
DTSTART;TZID=America/Chicago:20210727T170000
DTEND;TZID=America/Chicago:20210727T200000
LOCATION:
SUMMARY:Volunteer Training
END:VEVENT
END:VCALENDAR
