BEGIN:VCALENDAR
VERSION:2.0
PRODID:-//webinar.firespring.org//NONSGML kigkonsult.se iCalcreator 2.30.10
 //
CALSCALE:GREGORIAN
METHOD:PUBLISH
UID:6a25a6a7-4693-4c16-9d0f-15baab122b1c
X-WR-CALDESC:
X-WR-RELCALID:fd06558120788da5f64f63fc5d6492d4
X-WR-TIMEZONE:America/Chicago
BEGIN:VTIMEZONE
TZID:America/Chicago
BEGIN:STANDARD
TZNAME:CST
DTSTART:20201101T020000
TZOFFSETFROM:-0500
TZOFFSETTO:-0600
RDATE:20211107T020000
END:STANDARD
BEGIN:DAYLIGHT
TZNAME:CDT
DTSTART:20210314T020000
TZOFFSETFROM:-0600
TZOFFSETTO:-0500
RDATE:20220313T020000
END:DAYLIGHT
END:VTIMEZONE
BEGIN:VEVENT
UID:c55c2f35-a3fa-4d4a-831a-5f45cdc0ce2f
DTSTAMP:20260426T002025Z
DESCRIPTION:
DTSTART;TZID=America/Chicago:20210420T100000
DTEND;TZID=America/Chicago:20210420T103000
LOCATION:
SUMMARY:Donation Forms and Fundraisers
END:VEVENT
END:VCALENDAR
