BEGIN:VCALENDAR
VERSION:2.0
PRODID:-//webinar.firespring.org//NONSGML kigkonsult.se iCalcreator 2.30.10
 //
CALSCALE:GREGORIAN
METHOD:PUBLISH
UID:2efa9f20-14dd-41f9-b29c-ee1b88855d7f
X-WR-CALDESC:
X-WR-RELCALID:e5e26155ad53f5e7cd49f7a83b6b7567
X-WR-TIMEZONE:America/Chicago
BEGIN:VTIMEZONE
TZID:America/Chicago
BEGIN:STANDARD
TZNAME:CST
DTSTART:20201101T020000
TZOFFSETFROM:-0500
TZOFFSETTO:-0600
RDATE:20211107T020000
END:STANDARD
BEGIN:DAYLIGHT
TZNAME:CDT
DTSTART:20200308T020000
TZOFFSETFROM:-0600
TZOFFSETTO:-0500
RDATE:20210314T020000
RDATE:20220313T020000
END:DAYLIGHT
END:VTIMEZONE
BEGIN:VEVENT
UID:ca258c9e-d5fe-4aeb-9105-5453bf61bbf5
DTSTAMP:20260426T031428Z
DESCRIPTION:
DTSTART;TZID=America/Chicago:20210225T110000
DTEND;TZID=America/Chicago:20210225T120000
LOCATION:
SUMMARY:Board Member Meeting
END:VEVENT
END:VCALENDAR
