BEGIN:VCALENDAR
VERSION:2.0
PRODID:-//webinar.firespring.org//NONSGML kigkonsult.se iCalcreator 2.30.10
 //
CALSCALE:GREGORIAN
METHOD:PUBLISH
UID:56086e5b-03b6-4e52-9a56-f3984f4d2c3a
X-WR-CALDESC:
X-WR-RELCALID:07b9387494f8c65f568bf52fb55efaff
X-WR-TIMEZONE:America/Chicago
BEGIN:VTIMEZONE
TZID:America/Chicago
BEGIN:STANDARD
TZNAME:CST
DTSTART:20201101T020000
TZOFFSETFROM:-0500
TZOFFSETTO:-0600
RDATE:20211107T020000
END:STANDARD
BEGIN:DAYLIGHT
TZNAME:CDT
DTSTART:20200308T020000
TZOFFSETFROM:-0600
TZOFFSETTO:-0500
RDATE:20210314T020000
RDATE:20220313T020000
END:DAYLIGHT
END:VTIMEZONE
BEGIN:VEVENT
UID:a1469669-8a24-4b03-b71f-e7ff8893c61f
DTSTAMP:20260426T031342Z
DESCRIPTION:
DTSTART;TZID=America/Chicago:20210223T170000
DTEND;TZID=America/Chicago:20210223T200000
LOCATION:
SUMMARY:Volunteer Training
END:VEVENT
END:VCALENDAR
