BEGIN:VCALENDAR
VERSION:2.0
PRODID:-//webinar.firespring.org//NONSGML kigkonsult.se iCalcreator 2.30.10
 //
CALSCALE:GREGORIAN
METHOD:PUBLISH
UID:8ef8d5f8-c2b0-475a-85dd-6bcf1313b22c
X-WR-CALDESC:
X-WR-RELCALID:66903792d0fef694e344ed2bf7b71c2e
X-WR-TIMEZONE:America/Chicago
BEGIN:VTIMEZONE
TZID:America/Chicago
BEGIN:STANDARD
TZNAME:CST
DTSTART:20311102T020000
TZOFFSETFROM:-0500
TZOFFSETTO:-0600
RDATE:20321107T020000
END:STANDARD
BEGIN:DAYLIGHT
TZNAME:CDT
DTSTART:20310309T020000
TZOFFSETFROM:-0600
TZOFFSETTO:-0500
RDATE:20320314T020000
RDATE:20330313T020000
END:DAYLIGHT
END:VTIMEZONE
BEGIN:VEVENT
UID:f489738a-4abb-47c9-80d5-e2c4871c4bf3
DTSTAMP:20260426T005420Z
DESCRIPTION:
DTSTART;TZID=America/Chicago:20311223T170000
DTEND;TZID=America/Chicago:20311223T200000
LOCATION:
SUMMARY:Volunteer Training
END:VEVENT
END:VCALENDAR
