BEGIN:VCALENDAR
VERSION:2.0
PRODID:-//webinar.firespring.org//NONSGML kigkonsult.se iCalcreator 2.30.10
 //
CALSCALE:GREGORIAN
METHOD:PUBLISH
UID:63501194-00c5-49c9-962b-11c7da478c0b
X-WR-CALDESC:Give back to the community that loves you. Join us on October 
 5\, 2016 for a day of giving.
X-WR-RELCALID:c081ac730d14bc9306af06ca894c5a36
X-WR-TIMEZONE:America/Chicago
BEGIN:VTIMEZONE
TZID:America/Chicago
BEGIN:STANDARD
TZNAME:CST
DTSTART:20301103T020000
TZOFFSETFROM:-0500
TZOFFSETTO:-0600
RDATE:20311102T020000
RDATE:20321107T020000
END:STANDARD
BEGIN:DAYLIGHT
TZNAME:CDT
DTSTART:20310309T020000
TZOFFSETFROM:-0600
TZOFFSETTO:-0500
RDATE:20320314T020000
RDATE:20330313T020000
END:DAYLIGHT
END:VTIMEZONE
BEGIN:VEVENT
UID:5289a016-b682-44b3-997d-0a84ce536c7b
DTSTAMP:20260425T221452Z
DESCRIPTION:Give back to the community that loves you. Join us on October 5
 \, 2016 for a day of giving.
DTSTART;TZID=America/Chicago:20311005T000000
DTEND;TZID=America/Chicago:20311005T235900
LOCATION:Lincoln Nebraska
SUMMARY:Day of Giving
END:VEVENT
END:VCALENDAR
