BEGIN:VCALENDAR
VERSION:2.0
PRODID:-//webinar.firespring.org//NONSGML kigkonsult.se iCalcreator 2.30.10
 //
CALSCALE:GREGORIAN
METHOD:PUBLISH
UID:76032e07-08d5-47d3-99c4-eb91d6a341e7
X-WR-CALDESC:
X-WR-RELCALID:e697497d43a6facfe9003cf7bf7fc0a7
X-WR-TIMEZONE:America/Chicago
BEGIN:VTIMEZONE
TZID:America/Chicago
BEGIN:STANDARD
TZNAME:CST
DTSTART:20301103T020000
TZOFFSETFROM:-0500
TZOFFSETTO:-0600
RDATE:20311102T020000
RDATE:20321107T020000
END:STANDARD
BEGIN:DAYLIGHT
TZNAME:CDT
DTSTART:20310309T020000
TZOFFSETFROM:-0600
TZOFFSETTO:-0500
RDATE:20320314T020000
RDATE:20330313T020000
END:DAYLIGHT
END:VTIMEZONE
BEGIN:VEVENT
UID:ed6705a4-2821-49c8-a486-498098b4d993
DTSTAMP:20260425T221522Z
DESCRIPTION:
DTSTART;TZID=America/Chicago:20311001T093000
DTEND;TZID=America/Chicago:20311001T103000
LOCATION:
SUMMARY:Company Wide Retreat
END:VEVENT
END:VCALENDAR
