BEGIN:VCALENDAR
VERSION:2.0
PRODID:-//webinar.firespring.org//NONSGML kigkonsult.se iCalcreator 2.30.10
 //
CALSCALE:GREGORIAN
METHOD:PUBLISH
UID:696c3aae-2c99-4068-afd6-7f3b5e0c65fb
X-WR-CALDESC:
X-WR-RELCALID:d1a8edc8c1fbb96c3967eb2ae2518fdb
X-WR-TIMEZONE:America/Chicago
BEGIN:VTIMEZONE
TZID:America/Chicago
BEGIN:STANDARD
TZNAME:CST
DTSTART:20301103T020000
TZOFFSETFROM:-0500
TZOFFSETTO:-0600
RDATE:20311102T020000
RDATE:20321107T020000
END:STANDARD
BEGIN:DAYLIGHT
TZNAME:CDT
DTSTART:20310309T020000
TZOFFSETFROM:-0600
TZOFFSETTO:-0500
RDATE:20320314T020000
RDATE:20330313T020000
END:DAYLIGHT
END:VTIMEZONE
BEGIN:VEVENT
UID:e42974b1-a774-433c-99b8-1a9a3733cde2
DTSTAMP:20260425T205216Z
DESCRIPTION:
DTSTART;TZID=America/Chicago:20310923T170000
DTEND;TZID=America/Chicago:20310923T200000
LOCATION:
SUMMARY:Volunteer Training
END:VEVENT
END:VCALENDAR
