BEGIN:VCALENDAR
VERSION:2.0
PRODID:-//webinar.firespring.org//NONSGML kigkonsult.se iCalcreator 2.30.10
 //
CALSCALE:GREGORIAN
METHOD:PUBLISH
UID:eee247bd-2d83-41e9-8585-90048940a122
X-WR-CALDESC:
X-WR-RELCALID:f1d3ea76e51c11e1de661e387d667d84
X-WR-TIMEZONE:America/Chicago
BEGIN:VTIMEZONE
TZID:America/Chicago
BEGIN:STANDARD
TZNAME:CST
DTSTART:20301103T020000
TZOFFSETFROM:-0500
TZOFFSETTO:-0600
RDATE:20311102T020000
RDATE:20321107T020000
END:STANDARD
BEGIN:DAYLIGHT
TZNAME:CDT
DTSTART:20310309T020000
TZOFFSETFROM:-0600
TZOFFSETTO:-0500
RDATE:20320314T020000
END:DAYLIGHT
END:VTIMEZONE
BEGIN:VEVENT
UID:bd9c26aa-8424-42f5-8c47-9dfb855156e8
DTSTAMP:20260425T181225Z
DESCRIPTION:
DTSTART;TZID=America/Chicago:20310722T170000
DTEND;TZID=America/Chicago:20310722T200000
LOCATION:
SUMMARY:Volunteer Training
END:VEVENT
END:VCALENDAR
