BEGIN:VCALENDAR
VERSION:2.0
PRODID:-//webinar.firespring.org//NONSGML kigkonsult.se iCalcreator 2.30.10
 //
CALSCALE:GREGORIAN
METHOD:PUBLISH
UID:9bf66aa9-7490-466d-8024-a8e6f3b8379e
X-WR-CALDESC:
X-WR-RELCALID:0aa792a1ed47c3fb66c82167e01f1e2f
X-WR-TIMEZONE:America/Chicago
BEGIN:VTIMEZONE
TZID:America/Chicago
BEGIN:STANDARD
TZNAME:CST
DTSTART:20301103T020000
TZOFFSETFROM:-0500
TZOFFSETTO:-0600
RDATE:20311102T020000
RDATE:20321107T020000
END:STANDARD
BEGIN:DAYLIGHT
TZNAME:CDT
DTSTART:20310309T020000
TZOFFSETFROM:-0600
TZOFFSETTO:-0500
RDATE:20320314T020000
END:DAYLIGHT
END:VTIMEZONE
BEGIN:VEVENT
UID:c8f46b02-f471-42fa-83e9-078f38244874
DTSTAMP:20260425T182656Z
DESCRIPTION:
DTSTART;TZID=America/Chicago:20310706T100000
DTEND;TZID=America/Chicago:20310706T110000
LOCATION:
SUMMARY:Volunteer Event
END:VEVENT
END:VCALENDAR
