BEGIN:VCALENDAR
VERSION:2.0
PRODID:-//webinar.firespring.org//NONSGML kigkonsult.se iCalcreator 2.30.10
 //
CALSCALE:GREGORIAN
METHOD:PUBLISH
UID:5e1f1a8b-8d50-43da-9564-d4cb8b55af36
X-WR-CALDESC:
X-WR-RELCALID:a6e813a73566ddde2fdf6f7e4f7f1499
X-WR-TIMEZONE:America/Chicago
BEGIN:VTIMEZONE
TZID:America/Chicago
BEGIN:STANDARD
TZNAME:CST
DTSTART:20301103T020000
TZOFFSETFROM:-0500
TZOFFSETTO:-0600
RDATE:20311102T020000
RDATE:20321107T020000
END:STANDARD
BEGIN:DAYLIGHT
TZNAME:CDT
DTSTART:20310309T020000
TZOFFSETFROM:-0600
TZOFFSETTO:-0500
RDATE:20320314T020000
END:DAYLIGHT
END:VTIMEZONE
BEGIN:VEVENT
UID:81f8affd-8d8d-4389-825f-8e49ab816b9c
DTSTAMP:20260425T172455Z
DESCRIPTION:
DTSTART;TZID=America/Chicago:20310624T170000
DTEND;TZID=America/Chicago:20310624T200000
LOCATION:
SUMMARY:Volunteer Training
END:VEVENT
END:VCALENDAR
