BEGIN:VCALENDAR
VERSION:2.0
PRODID:-//webinar.firespring.org//NONSGML kigkonsult.se iCalcreator 2.30.10
 //
CALSCALE:GREGORIAN
METHOD:PUBLISH
UID:38d064ef-fa99-4e66-890c-fbbb4e0dbde9
X-WR-CALDESC:
X-WR-RELCALID:2daaf41b012d924b3f514d7dc614a24b
X-WR-TIMEZONE:America/Chicago
BEGIN:VTIMEZONE
TZID:America/Chicago
BEGIN:STANDARD
TZNAME:CST
DTSTART:20301103T020000
TZOFFSETFROM:-0500
TZOFFSETTO:-0600
RDATE:20311102T020000
RDATE:20321107T020000
END:STANDARD
BEGIN:DAYLIGHT
TZNAME:CDT
DTSTART:20310309T020000
TZOFFSETFROM:-0600
TZOFFSETTO:-0500
RDATE:20320314T020000
END:DAYLIGHT
END:VTIMEZONE
BEGIN:VEVENT
UID:0ab6b082-15be-48ad-aa4e-4c8bb21d1049
DTSTAMP:20260425T155536Z
DESCRIPTION:
DTSTART;TZID=America/Chicago:20310527T170000
DTEND;TZID=America/Chicago:20310527T200000
LOCATION:
SUMMARY:Volunteer Training
END:VEVENT
END:VCALENDAR
