BEGIN:VCALENDAR
VERSION:2.0
PRODID:-//webinar.firespring.org//NONSGML kigkonsult.se iCalcreator 2.30.10
 //
CALSCALE:GREGORIAN
METHOD:PUBLISH
UID:029963a5-a7b6-41b0-ac29-a8592492e1b0
X-WR-CALDESC:
X-WR-RELCALID:37601bbcd2306d44c379dadb3f85c1da
X-WR-TIMEZONE:America/Chicago
BEGIN:VTIMEZONE
TZID:America/Chicago
BEGIN:STANDARD
TZNAME:CST
DTSTART:20301103T020000
TZOFFSETFROM:-0500
TZOFFSETTO:-0600
RDATE:20311102T020000
END:STANDARD
BEGIN:DAYLIGHT
TZNAME:CDT
DTSTART:20310309T020000
TZOFFSETFROM:-0600
TZOFFSETTO:-0500
RDATE:20320314T020000
END:DAYLIGHT
END:VTIMEZONE
BEGIN:VEVENT
UID:844e247e-8d3e-4657-9d7b-9833ffba15f1
DTSTAMP:20260425T142533Z
DESCRIPTION:
DTSTART;TZID=America/Chicago:20310422T170000
DTEND;TZID=America/Chicago:20310422T200000
LOCATION:
SUMMARY:Volunteer Training
END:VEVENT
END:VCALENDAR
