BEGIN:VCALENDAR
VERSION:2.0
PRODID:-//webinar.firespring.org//NONSGML kigkonsult.se iCalcreator 2.30.10
 //
CALSCALE:GREGORIAN
METHOD:PUBLISH
UID:66c72310-f126-4db5-ab5b-e05109f49787
X-WR-CALDESC:
X-WR-RELCALID:a5f3a2f0b6ac82c653ef46efec62e710
X-WR-TIMEZONE:America/Chicago
BEGIN:VTIMEZONE
TZID:America/Chicago
BEGIN:STANDARD
TZNAME:CST
DTSTART:20301103T020000
TZOFFSETFROM:-0500
TZOFFSETTO:-0600
RDATE:20311102T020000
END:STANDARD
BEGIN:DAYLIGHT
TZNAME:CDT
DTSTART:20310309T020000
TZOFFSETFROM:-0600
TZOFFSETTO:-0500
RDATE:20320314T020000
END:DAYLIGHT
END:VTIMEZONE
BEGIN:VEVENT
UID:27cd0d77-15fe-45a0-a914-6e50cf640b34
DTSTAMP:20260425T142545Z
DESCRIPTION:
DTSTART;TZID=America/Chicago:20310406T100000
DTEND;TZID=America/Chicago:20310406T110000
LOCATION:
SUMMARY:Volunteer Event
END:VEVENT
END:VCALENDAR
