BEGIN:VCALENDAR
VERSION:2.0
PRODID:-//webinar.firespring.org//NONSGML kigkonsult.se iCalcreator 2.30.10
 //
CALSCALE:GREGORIAN
METHOD:PUBLISH
UID:27239b23-d9c7-40f8-9aef-99ce26c4dfac
X-WR-CALDESC:
X-WR-RELCALID:aba99ca0edee9e5434bf70a03bf95f8b
X-WR-TIMEZONE:America/Chicago
BEGIN:VTIMEZONE
TZID:America/Chicago
BEGIN:STANDARD
TZNAME:CST
DTSTART:20301103T020000
TZOFFSETFROM:-0500
TZOFFSETTO:-0600
RDATE:20311102T020000
END:STANDARD
BEGIN:DAYLIGHT
TZNAME:CDT
DTSTART:20310309T020000
TZOFFSETFROM:-0600
TZOFFSETTO:-0500
RDATE:20320314T020000
END:DAYLIGHT
END:VTIMEZONE
BEGIN:VEVENT
UID:05dd0ec9-c8dc-4742-ad70-5fefe30f002e
DTSTAMP:20260425T131005Z
DESCRIPTION:
DTSTART;TZID=America/Chicago:20310311T100000
DTEND;TZID=America/Chicago:20310311T103000
LOCATION:
SUMMARY:Donation Forms and Fundraisers
END:VEVENT
END:VCALENDAR
