BEGIN:VCALENDAR
VERSION:2.0
PRODID:-//webinar.firespring.org//NONSGML kigkonsult.se iCalcreator 2.30.10
 //
CALSCALE:GREGORIAN
METHOD:PUBLISH
UID:a8f35265-d65d-4e1f-970b-1c62809a0e9d
X-WR-CALDESC:
X-WR-RELCALID:9a89e574ce0c2aa6560167f9e217037d
X-WR-TIMEZONE:America/Chicago
BEGIN:VTIMEZONE
TZID:America/Chicago
BEGIN:STANDARD
TZNAME:CST
DTSTART:20301103T020000
TZOFFSETFROM:-0500
TZOFFSETTO:-0600
RDATE:20311102T020000
END:STANDARD
BEGIN:DAYLIGHT
TZNAME:CDT
DTSTART:20300310T020000
TZOFFSETFROM:-0600
TZOFFSETTO:-0500
RDATE:20310309T020000
RDATE:20320314T020000
END:DAYLIGHT
END:VTIMEZONE
BEGIN:VEVENT
UID:794356ab-74a5-45bb-b901-631f932a0950
DTSTAMP:20260425T113419Z
DESCRIPTION:
DTSTART;TZID=America/Chicago:20310225T170000
DTEND;TZID=America/Chicago:20310225T200000
LOCATION:
SUMMARY:Volunteer Training
END:VEVENT
END:VCALENDAR
