BEGIN:VCALENDAR
VERSION:2.0
PRODID:-//webinar.firespring.org//NONSGML kigkonsult.se iCalcreator 2.30.10
 //
CALSCALE:GREGORIAN
METHOD:PUBLISH
UID:1551827f-d00d-47bb-8943-c66a6a4d20a2
X-WR-CALDESC:
X-WR-RELCALID:127efa204341584b7d2767aa5874f66e
X-WR-TIMEZONE:America/Chicago
BEGIN:VTIMEZONE
TZID:America/Chicago
BEGIN:STANDARD
TZNAME:CST
DTSTART:20301103T020000
TZOFFSETFROM:-0500
TZOFFSETTO:-0600
RDATE:20311102T020000
END:STANDARD
BEGIN:DAYLIGHT
TZNAME:CDT
DTSTART:20300310T020000
TZOFFSETFROM:-0600
TZOFFSETTO:-0500
RDATE:20310309T020000
RDATE:20320314T020000
END:DAYLIGHT
END:VTIMEZONE
BEGIN:VEVENT
UID:54770a31-8011-4f70-8ebd-2418ec61649e
DTSTAMP:20260425T113335Z
DESCRIPTION:
DTSTART;TZID=America/Chicago:20310211T100000
DTEND;TZID=America/Chicago:20310211T103000
LOCATION:
SUMMARY:Donation Forms and Fundraisers
END:VEVENT
END:VCALENDAR
