BEGIN:VCALENDAR
VERSION:2.0
PRODID:-//webinar.firespring.org//NONSGML kigkonsult.se iCalcreator 2.30.10
 //
CALSCALE:GREGORIAN
METHOD:PUBLISH
UID:f39f5ed2-cc1d-45c3-b7f3-e82c6151b7bb
X-WR-CALDESC:
X-WR-RELCALID:2af2bc9a676a3e377b5d7cfb98be7060
X-WR-TIMEZONE:America/Chicago
BEGIN:VTIMEZONE
TZID:America/Chicago
BEGIN:STANDARD
TZNAME:CST
DTSTART:20301103T020000
TZOFFSETFROM:-0500
TZOFFSETTO:-0600
RDATE:20311102T020000
END:STANDARD
BEGIN:DAYLIGHT
TZNAME:CDT
DTSTART:20300310T020000
TZOFFSETFROM:-0600
TZOFFSETTO:-0500
RDATE:20310309T020000
RDATE:20320314T020000
END:DAYLIGHT
END:VTIMEZONE
BEGIN:VEVENT
UID:c5c6f794-26af-4890-9c2b-655df9fc0ee7
DTSTAMP:20260423T172112Z
DESCRIPTION:
DTSTART;TZID=America/Chicago:20301226T110000
DTEND;TZID=America/Chicago:20301226T120000
LOCATION:
SUMMARY:Board Member Meeting
END:VEVENT
END:VCALENDAR
