BEGIN:VCALENDAR
VERSION:2.0
PRODID:-//webinar.firespring.org//NONSGML kigkonsult.se iCalcreator 2.30.10
 //
CALSCALE:GREGORIAN
METHOD:PUBLISH
UID:2f1750b9-4a69-4390-9815-c14731e659ff
X-WR-CALDESC:
X-WR-RELCALID:40ca932b0a112cc75983992bb6ebaa99
X-WR-TIMEZONE:America/Chicago
BEGIN:VTIMEZONE
TZID:America/Chicago
BEGIN:STANDARD
TZNAME:CST
DTSTART:20301103T020000
TZOFFSETFROM:-0500
TZOFFSETTO:-0600
RDATE:20311102T020000
END:STANDARD
BEGIN:DAYLIGHT
TZNAME:CDT
DTSTART:20300310T020000
TZOFFSETFROM:-0600
TZOFFSETTO:-0500
RDATE:20310309T020000
RDATE:20320314T020000
END:DAYLIGHT
END:VTIMEZONE
BEGIN:VEVENT
UID:4e78e97d-4640-419b-a079-8beb78fee397
DTSTAMP:20260423T154717Z
DESCRIPTION:
DTSTART;TZID=America/Chicago:20301107T140000
DTEND;TZID=America/Chicago:20301107T150000
LOCATION:
SUMMARY:Springboard 102: All About Events
END:VEVENT
END:VCALENDAR
