BEGIN:VCALENDAR
VERSION:2.0
PRODID:-//webinar.firespring.org//NONSGML kigkonsult.se iCalcreator 2.30.10
 //
CALSCALE:GREGORIAN
METHOD:PUBLISH
UID:25b19845-d360-400c-b798-744dd44d94b2
X-WR-CALDESC:
X-WR-RELCALID:9beb80f2149e5fd9ca7174eb77bf0d83
X-WR-TIMEZONE:America/Chicago
BEGIN:VTIMEZONE
TZID:America/Chicago
BEGIN:STANDARD
TZNAME:CST
DTSTART:20291104T020000
TZOFFSETFROM:-0500
TZOFFSETTO:-0600
RDATE:20301103T020000
RDATE:20311102T020000
END:STANDARD
BEGIN:DAYLIGHT
TZNAME:CDT
DTSTART:20300310T020000
TZOFFSETFROM:-0600
TZOFFSETTO:-0500
RDATE:20310309T020000
RDATE:20320314T020000
END:DAYLIGHT
END:VTIMEZONE
BEGIN:VEVENT
UID:e61bf4b5-80f1-4fd7-ad8f-556683001229
DTSTAMP:20260423T142141Z
DESCRIPTION:
DTSTART;TZID=America/Chicago:20301006T100000
DTEND;TZID=America/Chicago:20301006T110000
LOCATION:
SUMMARY:Volunteer Event
END:VEVENT
END:VCALENDAR
