BEGIN:VCALENDAR
VERSION:2.0
PRODID:-//webinar.firespring.org//NONSGML kigkonsult.se iCalcreator 2.30.10
 //
CALSCALE:GREGORIAN
METHOD:PUBLISH
UID:70842f46-d809-43a2-803e-fc2f4b0a9e79
X-WR-CALDESC:
X-WR-RELCALID:5eea93c595002e30b0a2e4acfdb06334
X-WR-TIMEZONE:America/Chicago
BEGIN:VTIMEZONE
TZID:America/Chicago
BEGIN:STANDARD
TZNAME:CST
DTSTART:20291104T020000
TZOFFSETFROM:-0500
TZOFFSETTO:-0600
RDATE:20301103T020000
RDATE:20311102T020000
END:STANDARD
BEGIN:DAYLIGHT
TZNAME:CDT
DTSTART:20300310T020000
TZOFFSETFROM:-0600
TZOFFSETTO:-0500
RDATE:20310309T020000
RDATE:20320314T020000
END:DAYLIGHT
END:VTIMEZONE
BEGIN:VEVENT
UID:ee7eb97b-1b80-46a5-8046-e9d353c66310
DTSTAMP:20260423T142340Z
DESCRIPTION:
DTSTART;TZID=America/Chicago:20301001T093000
DTEND;TZID=America/Chicago:20301001T103000
LOCATION:
SUMMARY:Company Wide Retreat
END:VEVENT
END:VCALENDAR
