BEGIN:VCALENDAR
VERSION:2.0
PRODID:-//webinar.firespring.org//NONSGML kigkonsult.se iCalcreator 2.30.10
 //
CALSCALE:GREGORIAN
METHOD:PUBLISH
UID:0e3f9fdc-50a7-408d-b52f-fdd263ff1646
X-WR-CALDESC:
X-WR-RELCALID:24b473c9dc8e20bd1951e5db81ebc634
X-WR-TIMEZONE:America/Chicago
BEGIN:VTIMEZONE
TZID:America/Chicago
BEGIN:STANDARD
TZNAME:CST
DTSTART:20291104T020000
TZOFFSETFROM:-0500
TZOFFSETTO:-0600
RDATE:20301103T020000
RDATE:20311102T020000
END:STANDARD
BEGIN:DAYLIGHT
TZNAME:CDT
DTSTART:20300310T020000
TZOFFSETFROM:-0600
TZOFFSETTO:-0500
RDATE:20310309T020000
END:DAYLIGHT
END:VTIMEZONE
BEGIN:VEVENT
UID:d5d02fc5-8d1c-4216-89c9-b38b170e746b
DTSTAMP:20260423T110402Z
DESCRIPTION:
DTSTART;TZID=America/Chicago:20300827T170000
DTEND;TZID=America/Chicago:20300827T200000
LOCATION:
SUMMARY:Volunteer Training
END:VEVENT
END:VCALENDAR
