BEGIN:VCALENDAR
VERSION:2.0
PRODID:-//webinar.firespring.org//NONSGML kigkonsult.se iCalcreator 2.30.10
 //
CALSCALE:GREGORIAN
METHOD:PUBLISH
UID:a248f45a-d6c3-41ed-819f-45c980ced5f0
X-WR-CALDESC:
X-WR-RELCALID:733c09c83530d21361d0a157fa609552
X-WR-TIMEZONE:America/Chicago
BEGIN:VTIMEZONE
TZID:America/Chicago
BEGIN:STANDARD
TZNAME:CST
DTSTART:20291104T020000
TZOFFSETFROM:-0500
TZOFFSETTO:-0600
RDATE:20301103T020000
RDATE:20311102T020000
END:STANDARD
BEGIN:DAYLIGHT
TZNAME:CDT
DTSTART:20300310T020000
TZOFFSETFROM:-0600
TZOFFSETTO:-0500
RDATE:20310309T020000
END:DAYLIGHT
END:VTIMEZONE
BEGIN:VEVENT
UID:75430b28-21ac-4ac9-8c2c-8b88ea1eaedd
DTSTAMP:20260423T093616Z
DESCRIPTION:
DTSTART;TZID=America/Chicago:20300725T110000
DTEND;TZID=America/Chicago:20300725T120000
LOCATION:
SUMMARY:Board Member Meeting
END:VEVENT
END:VCALENDAR
