BEGIN:VCALENDAR
VERSION:2.0
PRODID:-//webinar.firespring.org//NONSGML kigkonsult.se iCalcreator 2.30.10
 //
CALSCALE:GREGORIAN
METHOD:PUBLISH
UID:5a281954-2829-47a8-9a79-35d429c2e2f2
X-WR-CALDESC:
X-WR-RELCALID:833e7dab5ad05c4af7c71312d42629cb
X-WR-TIMEZONE:America/Chicago
BEGIN:VTIMEZONE
TZID:America/Chicago
BEGIN:STANDARD
TZNAME:CST
DTSTART:20291104T020000
TZOFFSETFROM:-0500
TZOFFSETTO:-0600
RDATE:20301103T020000
RDATE:20311102T020000
END:STANDARD
BEGIN:DAYLIGHT
TZNAME:CDT
DTSTART:20300310T020000
TZOFFSETFROM:-0600
TZOFFSETTO:-0500
RDATE:20310309T020000
END:DAYLIGHT
END:VTIMEZONE
BEGIN:VEVENT
UID:413a48d2-6c52-4527-bbe2-430ce095bbe0
DTSTAMP:20260423T093459Z
DESCRIPTION:
DTSTART;TZID=America/Chicago:20300723T170000
DTEND;TZID=America/Chicago:20300723T200000
LOCATION:
SUMMARY:Volunteer Training
END:VEVENT
END:VCALENDAR
