BEGIN:VCALENDAR
VERSION:2.0
PRODID:-//webinar.firespring.org//NONSGML kigkonsult.se iCalcreator 2.30.10
 //
CALSCALE:GREGORIAN
METHOD:PUBLISH
UID:0268d665-2e6f-49f5-8567-4f076a8f20da
X-WR-CALDESC:
X-WR-RELCALID:11dc20d6d44e67a8482e02d98b6fb491
X-WR-TIMEZONE:America/Chicago
BEGIN:VTIMEZONE
TZID:America/Chicago
BEGIN:STANDARD
TZNAME:CST
DTSTART:20291104T020000
TZOFFSETFROM:-0500
TZOFFSETTO:-0600
RDATE:20301103T020000
RDATE:20311102T020000
END:STANDARD
BEGIN:DAYLIGHT
TZNAME:CDT
DTSTART:20300310T020000
TZOFFSETFROM:-0600
TZOFFSETTO:-0500
RDATE:20310309T020000
END:DAYLIGHT
END:VTIMEZONE
BEGIN:VEVENT
UID:3beff20e-880d-4c04-89db-c75412d07099
DTSTAMP:20260423T093617Z
DESCRIPTION:
DTSTART;TZID=America/Chicago:20300706T100000
DTEND;TZID=America/Chicago:20300706T110000
LOCATION:
SUMMARY:Volunteer Event
END:VEVENT
END:VCALENDAR
