BEGIN:VCALENDAR
VERSION:2.0
PRODID:-//webinar.firespring.org//NONSGML kigkonsult.se iCalcreator 2.30.10
 //
CALSCALE:GREGORIAN
METHOD:PUBLISH
UID:bb82feb2-f7be-4028-a1ec-090d69e0bafd
X-WR-CALDESC:
X-WR-RELCALID:8d16c66f3c7bc9b17ed9bfda353c073a
X-WR-TIMEZONE:America/Chicago
BEGIN:VTIMEZONE
TZID:America/Chicago
BEGIN:STANDARD
TZNAME:CST
DTSTART:20291104T020000
TZOFFSETFROM:-0500
TZOFFSETTO:-0600
RDATE:20301103T020000
END:STANDARD
BEGIN:DAYLIGHT
TZNAME:CDT
DTSTART:20300310T020000
TZOFFSETFROM:-0600
TZOFFSETTO:-0500
RDATE:20310309T020000
END:DAYLIGHT
END:VTIMEZONE
BEGIN:VEVENT
UID:dd29c1fc-59b1-4129-9440-b5f2abed12f5
DTSTAMP:20260423T053043Z
DESCRIPTION:
DTSTART;TZID=America/Chicago:20300425T110000
DTEND;TZID=America/Chicago:20300425T120000
LOCATION:
SUMMARY:Board Member Meeting
END:VEVENT
END:VCALENDAR
