BEGIN:VCALENDAR
VERSION:2.0
PRODID:-//webinar.firespring.org//NONSGML kigkonsult.se iCalcreator 2.30.10
 //
CALSCALE:GREGORIAN
METHOD:PUBLISH
UID:bff54312-a6ad-4582-a3c8-227eb8fc25aa
X-WR-CALDESC:
X-WR-RELCALID:18e951e6cf18a82c372b9f5f4c958242
X-WR-TIMEZONE:America/Chicago
BEGIN:VTIMEZONE
TZID:America/Chicago
BEGIN:STANDARD
TZNAME:CST
DTSTART:20291104T020000
TZOFFSETFROM:-0500
TZOFFSETTO:-0600
RDATE:20301103T020000
END:STANDARD
BEGIN:DAYLIGHT
TZNAME:CDT
DTSTART:20300310T020000
TZOFFSETFROM:-0600
TZOFFSETTO:-0500
RDATE:20310309T020000
END:DAYLIGHT
END:VTIMEZONE
BEGIN:VEVENT
UID:d5808be8-6661-4268-8776-82055d698448
DTSTAMP:20260423T052900Z
DESCRIPTION:
DTSTART;TZID=America/Chicago:20300423T170000
DTEND;TZID=America/Chicago:20300423T200000
LOCATION:
SUMMARY:Volunteer Training
END:VEVENT
END:VCALENDAR
