BEGIN:VCALENDAR
VERSION:2.0
PRODID:-//webinar.firespring.org//NONSGML kigkonsult.se iCalcreator 2.30.10
 //
CALSCALE:GREGORIAN
METHOD:PUBLISH
UID:9455531f-2d96-460d-bfef-ee4eb7cf0be9
X-WR-CALDESC:
X-WR-RELCALID:a52b525a517a8d9d0b7f2f777481104a
X-WR-TIMEZONE:America/Chicago
BEGIN:VTIMEZONE
TZID:America/Chicago
BEGIN:STANDARD
TZNAME:CST
DTSTART:20291104T020000
TZOFFSETFROM:-0500
TZOFFSETTO:-0600
RDATE:20301103T020000
END:STANDARD
BEGIN:DAYLIGHT
TZNAME:CDT
DTSTART:20300310T020000
TZOFFSETFROM:-0600
TZOFFSETTO:-0500
RDATE:20310309T020000
END:DAYLIGHT
END:VTIMEZONE
BEGIN:VEVENT
UID:d79fb65f-4465-40ea-88ec-750f0bcb9c54
DTSTAMP:20260423T053229Z
DESCRIPTION:
DTSTART;TZID=America/Chicago:20300406T100000
DTEND;TZID=America/Chicago:20300406T110000
LOCATION:
SUMMARY:Volunteer Event
END:VEVENT
END:VCALENDAR
