BEGIN:VCALENDAR
VERSION:2.0
PRODID:-//webinar.firespring.org//NONSGML kigkonsult.se iCalcreator 2.30.10
 //
CALSCALE:GREGORIAN
METHOD:PUBLISH
UID:a090ca4a-00ec-461b-aa5f-ff87c431918a
X-WR-CALDESC:
X-WR-RELCALID:08bf3d93d7e13716f0cb10de51f7cd61
X-WR-TIMEZONE:America/Chicago
BEGIN:VTIMEZONE
TZID:America/Chicago
BEGIN:STANDARD
TZNAME:CST
DTSTART:20291104T020000
TZOFFSETFROM:-0500
TZOFFSETTO:-0600
RDATE:20301103T020000
END:STANDARD
BEGIN:DAYLIGHT
TZNAME:CDT
DTSTART:20290311T020000
TZOFFSETFROM:-0600
TZOFFSETTO:-0500
RDATE:20300310T020000
RDATE:20310309T020000
END:DAYLIGHT
END:VTIMEZONE
BEGIN:VEVENT
UID:279c84ff-927f-48f0-a1ca-324adb162653
DTSTAMP:20260423T024836Z
DESCRIPTION:
DTSTART;TZID=America/Chicago:20300226T170000
DTEND;TZID=America/Chicago:20300226T200000
LOCATION:
SUMMARY:Volunteer Training
END:VEVENT
END:VCALENDAR
