BEGIN:VCALENDAR
VERSION:2.0
PRODID:-//webinar.firespring.org//NONSGML kigkonsult.se iCalcreator 2.30.10
 //
CALSCALE:GREGORIAN
METHOD:PUBLISH
UID:65847cac-08d5-49da-ac60-7dd74163f49a
X-WR-CALDESC:
X-WR-RELCALID:f4aa13f2822d12eb2e14528fb690694c
X-WR-TIMEZONE:America/Chicago
BEGIN:VTIMEZONE
TZID:America/Chicago
BEGIN:STANDARD
TZNAME:CST
DTSTART:20291104T020000
TZOFFSETFROM:-0500
TZOFFSETTO:-0600
RDATE:20301103T020000
END:STANDARD
BEGIN:DAYLIGHT
TZNAME:CDT
DTSTART:20290311T020000
TZOFFSETFROM:-0600
TZOFFSETTO:-0500
RDATE:20300310T020000
RDATE:20310309T020000
END:DAYLIGHT
END:VTIMEZONE
BEGIN:VEVENT
UID:978be5bb-6329-43a4-ae5c-35c9b8a8781d
DTSTAMP:20260423T005328Z
DESCRIPTION:
DTSTART;TZID=America/Chicago:20300122T170000
DTEND;TZID=America/Chicago:20300122T200000
LOCATION:
SUMMARY:Volunteer Training
END:VEVENT
END:VCALENDAR
