BEGIN:VCALENDAR
VERSION:2.0
PRODID:-//webinar.firespring.org//NONSGML kigkonsult.se iCalcreator 2.30.10
 //
CALSCALE:GREGORIAN
METHOD:PUBLISH
UID:a34fc738-750f-4d5d-92fe-81d29ff3ccbd
X-WR-CALDESC:
X-WR-RELCALID:b0abb36d73b966dcaeaf0714aad22bc6
X-WR-TIMEZONE:America/Chicago
BEGIN:VTIMEZONE
TZID:America/Chicago
BEGIN:STANDARD
TZNAME:CST
DTSTART:20291104T020000
TZOFFSETFROM:-0500
TZOFFSETTO:-0600
RDATE:20301103T020000
END:STANDARD
BEGIN:DAYLIGHT
TZNAME:CDT
DTSTART:20290311T020000
TZOFFSETFROM:-0600
TZOFFSETTO:-0500
RDATE:20300310T020000
RDATE:20310309T020000
END:DAYLIGHT
END:VTIMEZONE
BEGIN:VEVENT
UID:abb5deda-0ca5-4c93-8417-2a9925689f5c
DTSTAMP:20260423T005500Z
DESCRIPTION:
DTSTART;TZID=America/Chicago:20300106T100000
DTEND;TZID=America/Chicago:20300106T110000
LOCATION:
SUMMARY:Volunteer Event
END:VEVENT
END:VCALENDAR
