BEGIN:VCALENDAR
VERSION:2.0
PRODID:-//webinar.firespring.org//NONSGML kigkonsult.se iCalcreator 2.30.10
 //
CALSCALE:GREGORIAN
METHOD:PUBLISH
UID:0ddee34e-5e69-4b01-bab7-29b2cb0223d7
X-WR-CALDESC:
X-WR-RELCALID:a38516a21d63df627e34bdc9e5959073
X-WR-TIMEZONE:America/Chicago
BEGIN:VTIMEZONE
TZID:America/Chicago
BEGIN:STANDARD
TZNAME:CST
DTSTART:20291104T020000
TZOFFSETFROM:-0500
TZOFFSETTO:-0600
RDATE:20301103T020000
END:STANDARD
BEGIN:DAYLIGHT
TZNAME:CDT
DTSTART:20290311T020000
TZOFFSETFROM:-0600
TZOFFSETTO:-0500
RDATE:20300310T020000
RDATE:20310309T020000
END:DAYLIGHT
END:VTIMEZONE
BEGIN:VEVENT
UID:fbcf069e-6813-41f4-b678-bb9921d4715d
DTSTAMP:20260422T214951Z
DESCRIPTION:
DTSTART;TZID=America/Chicago:20291127T170000
DTEND;TZID=America/Chicago:20291127T200000
LOCATION:
SUMMARY:Volunteer Training
END:VEVENT
END:VCALENDAR
