BEGIN:VCALENDAR
VERSION:2.0
PRODID:-//webinar.firespring.org//NONSGML kigkonsult.se iCalcreator 2.30.10
 //
CALSCALE:GREGORIAN
METHOD:PUBLISH
UID:e9b5f161-08b2-47af-a622-b0f962b30955
X-WR-CALDESC:
X-WR-RELCALID:c935298df5f5c9e158329cd932a81996
X-WR-TIMEZONE:America/Chicago
BEGIN:VTIMEZONE
TZID:America/Chicago
BEGIN:STANDARD
TZNAME:CST
DTSTART:20281105T020000
TZOFFSETFROM:-0500
TZOFFSETTO:-0600
RDATE:20291104T020000
RDATE:20301103T020000
END:STANDARD
BEGIN:DAYLIGHT
TZNAME:CDT
DTSTART:20290311T020000
TZOFFSETFROM:-0600
TZOFFSETTO:-0500
RDATE:20300310T020000
RDATE:20310309T020000
END:DAYLIGHT
END:VTIMEZONE
BEGIN:VEVENT
UID:1b5506c7-00ae-40cb-8312-6f6871a72867
DTSTAMP:20260422T202646Z
DESCRIPTION:
DTSTART;TZID=America/Chicago:20291023T170000
DTEND;TZID=America/Chicago:20291023T200000
LOCATION:
SUMMARY:Volunteer Training
END:VEVENT
END:VCALENDAR
