BEGIN:VCALENDAR
VERSION:2.0
PRODID:-//webinar.firespring.org//NONSGML kigkonsult.se iCalcreator 2.30.10
 //
CALSCALE:GREGORIAN
METHOD:PUBLISH
UID:55cd5b48-0fd0-43bf-9ced-7f6588ece2c8
X-WR-CALDESC:
X-WR-RELCALID:5d87d1b03ac58478f0a9dc8d38be7818
X-WR-TIMEZONE:America/Chicago
BEGIN:VTIMEZONE
TZID:America/Chicago
BEGIN:STANDARD
TZNAME:CST
DTSTART:20281105T020000
TZOFFSETFROM:-0500
TZOFFSETTO:-0600
RDATE:20291104T020000
RDATE:20301103T020000
END:STANDARD
BEGIN:DAYLIGHT
TZNAME:CDT
DTSTART:20290311T020000
TZOFFSETFROM:-0600
TZOFFSETTO:-0500
RDATE:20300310T020000
RDATE:20310309T020000
END:DAYLIGHT
END:VTIMEZONE
BEGIN:VEVENT
UID:6ce9550c-fa82-46b5-8361-1ba835ffa379
DTSTAMP:20260422T203818Z
DESCRIPTION:
DTSTART;TZID=America/Chicago:20291001T093000
DTEND;TZID=America/Chicago:20291001T103000
LOCATION:
SUMMARY:Company Wide Retreat
END:VEVENT
END:VCALENDAR
