BEGIN:VCALENDAR
VERSION:2.0
PRODID:-//webinar.firespring.org//NONSGML kigkonsult.se iCalcreator 2.30.10
 //
CALSCALE:GREGORIAN
METHOD:PUBLISH
UID:f239cb36-c368-4220-8734-a8b92a8e884d
X-WR-CALDESC:
X-WR-RELCALID:f4bda645e8ee40990bc5fe19c6b842e6
X-WR-TIMEZONE:America/Chicago
BEGIN:VTIMEZONE
TZID:America/Chicago
BEGIN:STANDARD
TZNAME:CST
DTSTART:20281105T020000
TZOFFSETFROM:-0500
TZOFFSETTO:-0600
RDATE:20291104T020000
RDATE:20301103T020000
END:STANDARD
BEGIN:DAYLIGHT
TZNAME:CDT
DTSTART:20290311T020000
TZOFFSETFROM:-0600
TZOFFSETTO:-0500
RDATE:20300310T020000
RDATE:20310309T020000
END:DAYLIGHT
END:VTIMEZONE
BEGIN:VEVENT
UID:9833a303-4324-4bd5-93cd-49a43c72a477
DTSTAMP:20260422T191033Z
DESCRIPTION:
DTSTART;TZID=America/Chicago:20290925T170000
DTEND;TZID=America/Chicago:20290925T200000
LOCATION:
SUMMARY:Volunteer Training
END:VEVENT
END:VCALENDAR
