BEGIN:VCALENDAR
VERSION:2.0
PRODID:-//webinar.firespring.org//NONSGML kigkonsult.se iCalcreator 2.30.10
 //
CALSCALE:GREGORIAN
METHOD:PUBLISH
UID:60100a2a-327f-468a-b5c5-16d2628e5dc3
X-WR-CALDESC:
X-WR-RELCALID:588115b04fb296db42969db9236c7b19
X-WR-TIMEZONE:America/Chicago
BEGIN:VTIMEZONE
TZID:America/Chicago
BEGIN:STANDARD
TZNAME:CST
DTSTART:20281105T020000
TZOFFSETFROM:-0500
TZOFFSETTO:-0600
RDATE:20291104T020000
RDATE:20301103T020000
END:STANDARD
BEGIN:DAYLIGHT
TZNAME:CDT
DTSTART:20290311T020000
TZOFFSETFROM:-0600
TZOFFSETTO:-0500
RDATE:20300310T020000
END:DAYLIGHT
END:VTIMEZONE
BEGIN:VEVENT
UID:6200e337-e48c-4776-aeab-60575a8c98b3
DTSTAMP:20260422T173548Z
DESCRIPTION:
DTSTART;TZID=America/Chicago:20290828T170000
DTEND;TZID=America/Chicago:20290828T200000
LOCATION:
SUMMARY:Volunteer Training
END:VEVENT
END:VCALENDAR
