BEGIN:VCALENDAR
VERSION:2.0
PRODID:-//webinar.firespring.org//NONSGML kigkonsult.se iCalcreator 2.30.10
 //
CALSCALE:GREGORIAN
METHOD:PUBLISH
UID:93690e36-4740-4d15-8c6e-663c956f01a3
X-WR-CALDESC:
X-WR-RELCALID:bda8bf277afe0bb5d23ff9bef60c7805
X-WR-TIMEZONE:America/Chicago
BEGIN:VTIMEZONE
TZID:America/Chicago
BEGIN:STANDARD
TZNAME:CST
DTSTART:20281105T020000
TZOFFSETFROM:-0500
TZOFFSETTO:-0600
RDATE:20291104T020000
RDATE:20301103T020000
END:STANDARD
BEGIN:DAYLIGHT
TZNAME:CDT
DTSTART:20290311T020000
TZOFFSETFROM:-0600
TZOFFSETTO:-0500
RDATE:20300310T020000
END:DAYLIGHT
END:VTIMEZONE
BEGIN:VEVENT
UID:e7ad65ce-027c-4d8d-b8a1-cbb9d7bb7ed2
DTSTAMP:20260422T141609Z
DESCRIPTION:
DTSTART;TZID=America/Chicago:20290626T170000
DTEND;TZID=America/Chicago:20290626T200000
LOCATION:
SUMMARY:Volunteer Training
END:VEVENT
END:VCALENDAR
