BEGIN:VCALENDAR
VERSION:2.0
PRODID:-//webinar.firespring.org//NONSGML kigkonsult.se iCalcreator 2.30.10
 //
CALSCALE:GREGORIAN
METHOD:PUBLISH
UID:170dab3c-cb74-46d4-b50b-a483758060db
X-WR-CALDESC:
X-WR-RELCALID:c88ca221481c47fafdc9810abb87254d
X-WR-TIMEZONE:America/Chicago
BEGIN:VTIMEZONE
TZID:America/Chicago
BEGIN:STANDARD
TZNAME:CST
DTSTART:20281105T020000
TZOFFSETFROM:-0500
TZOFFSETTO:-0600
RDATE:20291104T020000
RDATE:20301103T020000
END:STANDARD
BEGIN:DAYLIGHT
TZNAME:CDT
DTSTART:20290311T020000
TZOFFSETFROM:-0600
TZOFFSETTO:-0500
RDATE:20300310T020000
END:DAYLIGHT
END:VTIMEZONE
BEGIN:VEVENT
UID:c93be5ad-1c94-4550-a213-2b8eb382fcfe
DTSTAMP:20260422T124909Z
DESCRIPTION:
DTSTART;TZID=America/Chicago:20290522T170000
DTEND;TZID=America/Chicago:20290522T200000
LOCATION:
SUMMARY:Volunteer Training
END:VEVENT
END:VCALENDAR
