BEGIN:VCALENDAR
VERSION:2.0
PRODID:-//webinar.firespring.org//NONSGML kigkonsult.se iCalcreator 2.30.10
 //
CALSCALE:GREGORIAN
METHOD:PUBLISH
UID:12826c16-ceb3-4717-8509-2e65893e60a8
X-WR-CALDESC:Join us for our monthly staff meeting.
X-WR-RELCALID:b8b6ff7dd5337b9bc801f0d9367a6f20
X-WR-TIMEZONE:America/Chicago
BEGIN:VTIMEZONE
TZID:America/Chicago
BEGIN:STANDARD
TZNAME:CST
DTSTART:20281105T020000
TZOFFSETFROM:-0500
TZOFFSETTO:-0600
RDATE:20291104T020000
END:STANDARD
BEGIN:DAYLIGHT
TZNAME:CDT
DTSTART:20290311T020000
TZOFFSETFROM:-0600
TZOFFSETTO:-0500
RDATE:20300310T020000
END:DAYLIGHT
END:VTIMEZONE
BEGIN:VEVENT
UID:f13160d3-f246-4547-a604-1f1d2f6dc5d3
DTSTAMP:20260422T125006Z
DESCRIPTION:Join us for our monthly staff meeting.
DTSTART;TZID=America/Chicago:20290503T140000
DTEND;TZID=America/Chicago:20290503T153000
LOCATION:1201 Infinity Court Lincoln NE
SUMMARY:Staff Meeting
END:VEVENT
END:VCALENDAR
