BEGIN:VCALENDAR
VERSION:2.0
PRODID:-//webinar.firespring.org//NONSGML kigkonsult.se iCalcreator 2.30.10
 //
CALSCALE:GREGORIAN
METHOD:PUBLISH
UID:e4a5a964-bbca-4b92-aa92-5da21f8b0402
X-WR-CALDESC:
X-WR-RELCALID:3fc5f3a7bfc1fdb0bdc33df12d149d50
X-WR-TIMEZONE:America/Chicago
BEGIN:VTIMEZONE
TZID:America/Chicago
BEGIN:STANDARD
TZNAME:CST
DTSTART:20281105T020000
TZOFFSETFROM:-0500
TZOFFSETTO:-0600
RDATE:20291104T020000
END:STANDARD
BEGIN:DAYLIGHT
TZNAME:CDT
DTSTART:20290311T020000
TZOFFSETFROM:-0600
TZOFFSETTO:-0500
RDATE:20300310T020000
END:DAYLIGHT
END:VTIMEZONE
BEGIN:VEVENT
UID:bda9e03b-a273-4143-84e7-ea90e8320344
DTSTAMP:20260422T112459Z
DESCRIPTION:
DTSTART;TZID=America/Chicago:20290406T100000
DTEND;TZID=America/Chicago:20290406T110000
LOCATION:
SUMMARY:Volunteer Event
END:VEVENT
END:VCALENDAR
