BEGIN:VCALENDAR
VERSION:2.0
PRODID:-//webinar.firespring.org//NONSGML kigkonsult.se iCalcreator 2.30.10
 //
CALSCALE:GREGORIAN
METHOD:PUBLISH
UID:9ef3f4e4-e5c1-4b0d-8923-21e1eecd1fcb
X-WR-CALDESC:
X-WR-RELCALID:b9b81200cdfa340b55279d20e06a951e
X-WR-TIMEZONE:America/Chicago
BEGIN:VTIMEZONE
TZID:America/Chicago
BEGIN:STANDARD
TZNAME:CST
DTSTART:20281105T020000
TZOFFSETFROM:-0500
TZOFFSETTO:-0600
RDATE:20291104T020000
END:STANDARD
BEGIN:DAYLIGHT
TZNAME:CDT
DTSTART:20280312T020000
TZOFFSETFROM:-0600
TZOFFSETTO:-0500
RDATE:20290311T020000
RDATE:20300310T020000
END:DAYLIGHT
END:VTIMEZONE
BEGIN:VEVENT
UID:fd2e9a39-6919-4aec-94d0-fb89b45ea38c
DTSTAMP:20260422T080744Z
DESCRIPTION:
DTSTART;TZID=America/Chicago:20290227T170000
DTEND;TZID=America/Chicago:20290227T200000
LOCATION:
SUMMARY:Volunteer Training
END:VEVENT
END:VCALENDAR
