BEGIN:VCALENDAR
VERSION:2.0
PRODID:-//webinar.firespring.org//NONSGML kigkonsult.se iCalcreator 2.30.10
 //
CALSCALE:GREGORIAN
METHOD:PUBLISH
UID:c7f55cd0-b2f8-4aa2-a30f-c034793f0e3c
X-WR-CALDESC:
X-WR-RELCALID:b32b647ffeb7b52d4b84e898fe5fbff1
X-WR-TIMEZONE:America/Chicago
BEGIN:VTIMEZONE
TZID:America/Chicago
BEGIN:STANDARD
TZNAME:CST
DTSTART:20281105T020000
TZOFFSETFROM:-0500
TZOFFSETTO:-0600
RDATE:20291104T020000
END:STANDARD
BEGIN:DAYLIGHT
TZNAME:CDT
DTSTART:20280312T020000
TZOFFSETFROM:-0600
TZOFFSETTO:-0500
RDATE:20290311T020000
RDATE:20300310T020000
END:DAYLIGHT
END:VTIMEZONE
BEGIN:VEVENT
UID:61053081-4437-4a3e-ad52-6d9954f20b84
DTSTAMP:20260422T065513Z
DESCRIPTION:
DTSTART;TZID=America/Chicago:20290123T170000
DTEND;TZID=America/Chicago:20290123T200000
LOCATION:
SUMMARY:Volunteer Training
END:VEVENT
END:VCALENDAR
