BEGIN:VCALENDAR
VERSION:2.0
PRODID:-//webinar.firespring.org//NONSGML kigkonsult.se iCalcreator 2.30.10
 //
CALSCALE:GREGORIAN
METHOD:PUBLISH
UID:3a6867d4-2237-4a4b-8456-e3774945d8b0
X-WR-CALDESC:
X-WR-RELCALID:4b62821d7ab0422a2fffa0d49c1b9140
X-WR-TIMEZONE:America/Chicago
BEGIN:VTIMEZONE
TZID:America/Chicago
BEGIN:STANDARD
TZNAME:CST
DTSTART:20281105T020000
TZOFFSETFROM:-0500
TZOFFSETTO:-0600
RDATE:20291104T020000
END:STANDARD
BEGIN:DAYLIGHT
TZNAME:CDT
DTSTART:20280312T020000
TZOFFSETFROM:-0600
TZOFFSETTO:-0500
RDATE:20290311T020000
RDATE:20300310T020000
END:DAYLIGHT
END:VTIMEZONE
BEGIN:VEVENT
UID:7c4180c8-54f0-44d3-90c5-31fcf2a31883
DTSTAMP:20260422T065550Z
DESCRIPTION:
DTSTART;TZID=America/Chicago:20290106T100000
DTEND;TZID=America/Chicago:20290106T110000
LOCATION:
SUMMARY:Volunteer Event
END:VEVENT
END:VCALENDAR
