BEGIN:VCALENDAR
VERSION:2.0
PRODID:-//webinar.firespring.org//NONSGML kigkonsult.se iCalcreator 2.30.10
 //
CALSCALE:GREGORIAN
METHOD:PUBLISH
UID:19b8a8c5-feb6-41a4-9a09-33533480fe07
X-WR-CALDESC:
X-WR-RELCALID:c7868f64face3c06f1de37d216d46647
X-WR-TIMEZONE:America/Chicago
BEGIN:VTIMEZONE
TZID:America/Chicago
BEGIN:STANDARD
TZNAME:CST
DTSTART:20281105T020000
TZOFFSETFROM:-0500
TZOFFSETTO:-0600
RDATE:20291104T020000
END:STANDARD
BEGIN:DAYLIGHT
TZNAME:CDT
DTSTART:20280312T020000
TZOFFSETFROM:-0600
TZOFFSETTO:-0500
RDATE:20290311T020000
RDATE:20300310T020000
END:DAYLIGHT
END:VTIMEZONE
BEGIN:VEVENT
UID:ca730708-7691-44e7-a9ea-7196d70a710f
DTSTAMP:20260422T051106Z
DESCRIPTION:
DTSTART;TZID=America/Chicago:20281207T140000
DTEND;TZID=America/Chicago:20281207T150000
LOCATION:
SUMMARY:Springboard 102: All About Events
END:VEVENT
END:VCALENDAR
