BEGIN:VCALENDAR
VERSION:2.0
PRODID:-//webinar.firespring.org//NONSGML kigkonsult.se iCalcreator 2.30.10
 //
CALSCALE:GREGORIAN
METHOD:PUBLISH
UID:fcd7ee92-8a44-4158-a963-8cec60a3fe4c
X-WR-CALDESC:
X-WR-RELCALID:99d3dd1bf60d5169e19497353bd29de5
X-WR-TIMEZONE:America/Chicago
BEGIN:VTIMEZONE
TZID:America/Chicago
BEGIN:STANDARD
TZNAME:CST
DTSTART:20281105T020000
TZOFFSETFROM:-0500
TZOFFSETTO:-0600
RDATE:20291104T020000
END:STANDARD
BEGIN:DAYLIGHT
TZNAME:CDT
DTSTART:20280312T020000
TZOFFSETFROM:-0600
TZOFFSETTO:-0500
RDATE:20290311T020000
RDATE:20300310T020000
END:DAYLIGHT
END:VTIMEZONE
BEGIN:VEVENT
UID:ff246180-50ad-4d59-88da-53cfe8f741f1
DTSTAMP:20260422T025837Z
DESCRIPTION:
DTSTART;TZID=America/Chicago:20281128T170000
DTEND;TZID=America/Chicago:20281128T200000
LOCATION:
SUMMARY:Volunteer Training
END:VEVENT
END:VCALENDAR
